Package: RSeqAn Version: 1.30.0 Command: /home/biocbuild/bbs-3.22-bioc/R/bin/R CMD INSTALL RSeqAn StartedAt: 2025-11-09 15:02:06 -0500 (Sun, 09 Nov 2025) EndedAt: 2025-11-09 15:02:20 -0500 (Sun, 09 Nov 2025) EllapsedTime: 14.2 seconds RetCode: 0 Status: OK