Package: RSVSim Version: 1.50.0 Command: /home/biocbuild/bbs-3.22-bioc/R/bin/R CMD INSTALL RSVSim StartedAt: 2025-11-06 15:53:08 -0500 (Thu, 06 Nov 2025) EndedAt: 2025-11-06 15:53:46 -0500 (Thu, 06 Nov 2025) EllapsedTime: 38.1 seconds RetCode: 0 Status: OK