Package: RSVSim Version: 1.50.0 Command: /home/biocbuild/bbs-3.22-bioc/R/bin/R CMD build --keep-empty-dirs --no-resave-data --md5 RSVSim StartedAt: 2025-11-06 19:44:41 -0500 (Thu, 06 Nov 2025) EndedAt: 2025-11-06 19:45:34 -0500 (Thu, 06 Nov 2025) EllapsedTime: 53.1 seconds RetCode: 0 Status: OK PackageFile: RSVSim_1.50.0.tar.gz PackageFileSize: 505.8 KiB