Package: RProtoBufLib Version: 2.22.0 Command: /Library/Frameworks/R.framework/Resources/bin/R CMD INSTALL RProtoBufLib StartedAt: 2025-11-03 15:09:40 -0500 (Mon, 03 Nov 2025) EndedAt: 2025-11-03 15:14:15 -0500 (Mon, 03 Nov 2025) EllapsedTime: 274.4 seconds RetCode: 0 Status: OK