Package: RProtoBufLib Version: 2.22.0 Command: /Library/Frameworks/R.framework/Resources/bin/R CMD build --keep-empty-dirs --no-resave-data RProtoBufLib StartedAt: 2025-11-03 18:32:11 -0500 (Mon, 03 Nov 2025) EndedAt: 2025-11-03 18:38:02 -0500 (Mon, 03 Nov 2025) EllapsedTime: 351.1 seconds RetCode: 0 Status: OK PackageFile: RProtoBufLib_2.22.0.tar.gz PackageFileSize: 2.786 MiB