Package: RProtoBufLib Version: 2.22.0 Command: /Library/Frameworks/R.framework/Resources/bin/R CMD INSTALL RProtoBufLib StartedAt: 2025-11-10 15:01:39 -0500 (Mon, 10 Nov 2025) EndedAt: 2025-11-10 15:03:02 -0500 (Mon, 10 Nov 2025) EllapsedTime: 82.6 seconds RetCode: 0 Status: OK