Package: RProtoBufLib Version: 2.22.0 Command: /Library/Frameworks/R.framework/Resources/bin/R CMD build --keep-empty-dirs --no-resave-data RProtoBufLib StartedAt: 2025-11-10 17:34:48 -0500 (Mon, 10 Nov 2025) EndedAt: 2025-11-10 17:36:21 -0500 (Mon, 10 Nov 2025) EllapsedTime: 92.2 seconds RetCode: 0 Status: OK PackageFile: RProtoBufLib_2.22.0.tar.gz PackageFileSize: 2.796 MiB