Package: RProtoBufLib Version: 2.22.0 Command: rm -rf RProtoBufLib.buildbin-libdir && mkdir RProtoBufLib.buildbin-libdir && /Users/biocbuild/BBS/utils/build-universal.sh RProtoBufLib_2.22.0.tar.gz /Library/Frameworks/R.framework/Resources/bin/R RProtoBufLib.buildbin-libdir StartedAt: 2025-11-10 23:34:29 -0500 (Mon, 10 Nov 2025) EndedAt: 2025-11-10 23:36:09 -0500 (Mon, 10 Nov 2025) EllapsedTime: 99.9 seconds RetCode: 0 Status: OK PackageFile: RProtoBufLib_2.22.0.tgz PackageFileSize: 3.157 MiB