Package: RProtoBufLib Version: 2.22.0 Command: /Library/Frameworks/R.framework/Resources/bin/R CMD INSTALL RProtoBufLib StartedAt: 2025-11-17 16:52:28 -0500 (Mon, 17 Nov 2025) EndedAt: 2025-11-17 16:53:58 -0500 (Mon, 17 Nov 2025) EllapsedTime: 90.6 seconds RetCode: 0 Status: OK