Package: RProtoBufLib Version: 2.22.0 Command: /Library/Frameworks/R.framework/Resources/bin/R CMD build --keep-empty-dirs --no-resave-data RProtoBufLib StartedAt: 2025-11-18 00:24:33 -0500 (Tue, 18 Nov 2025) EndedAt: 2025-11-18 00:26:16 -0500 (Tue, 18 Nov 2025) EllapsedTime: 103.1 seconds RetCode: 0 Status: OK PackageFile: RProtoBufLib_2.22.0.tar.gz PackageFileSize: 2.798 MiB