Package: RProtoBufLib Version: 2.22.0 Command: rm -rf RProtoBufLib.buildbin-libdir && mkdir RProtoBufLib.buildbin-libdir && /Users/biocbuild/BBS/utils/build-universal.sh RProtoBufLib_2.22.0.tar.gz /Library/Frameworks/R.framework/Resources/bin/R RProtoBufLib.buildbin-libdir StartedAt: 2025-11-18 16:17:51 -0500 (Tue, 18 Nov 2025) EndedAt: 2025-11-18 16:20:21 -0500 (Tue, 18 Nov 2025) EllapsedTime: 149.9 seconds RetCode: 0 Status: OK PackageFile: RProtoBufLib_2.22.0.tgz PackageFileSize: 3.158 MiB