Package: ROSeq Version: 1.22.0 Command: rm -rf ROSeq.buildbin-libdir && mkdir ROSeq.buildbin-libdir && /Users/biocbuild/BBS/utils/build-universal.sh ROSeq_1.22.0.tar.gz /Library/Frameworks/R.framework/Resources/bin/R ROSeq.buildbin-libdir StartedAt: 2025-11-10 23:34:25 -0500 (Mon, 10 Nov 2025) EndedAt: 2025-11-10 23:34:29 -0500 (Mon, 10 Nov 2025) EllapsedTime: 4.1 seconds RetCode: 0 Status: OK PackageFile: ROSeq_1.22.0.tgz PackageFileSize: 7.322 MiB