Package: ROCpAI Version: 1.21.0 Command: /home/biocbuild/bbs-3.22-bioc/R/bin/R CMD build --keep-empty-dirs --no-resave-data --md5 ROCpAI StartedAt: 2025-10-24 19:51:48 -0400 (Fri, 24 Oct 2025) EndedAt: 2025-10-24 19:52:19 -0400 (Fri, 24 Oct 2025) EllapsedTime: 31.0 seconds RetCode: 0 Status: OK PackageFile: ROCpAI_1.21.0.tar.gz PackageFileSize: 408.1 KiB