Package: ROCpAI Version: 1.22.0 Command: /Library/Frameworks/R.framework/Resources/bin/R CMD INSTALL ROCpAI StartedAt: 2025-11-10 15:14:23 -0500 (Mon, 10 Nov 2025) EndedAt: 2025-11-10 15:14:32 -0500 (Mon, 10 Nov 2025) EllapsedTime: 8.5 seconds RetCode: 0 Status: OK