Package: ROCpAI Version: 1.22.0 Command: /Library/Frameworks/R.framework/Resources/bin/R CMD build --keep-empty-dirs --no-resave-data ROCpAI StartedAt: 2025-11-10 17:34:23 -0500 (Mon, 10 Nov 2025) EndedAt: 2025-11-10 17:34:37 -0500 (Mon, 10 Nov 2025) EllapsedTime: 14.2 seconds RetCode: 0 Status: OK PackageFile: ROCpAI_1.22.0.tar.gz PackageFileSize: 427 KiB