Package: ROCpAI Version: 1.22.0 Command: rm -rf ROCpAI.buildbin-libdir && mkdir ROCpAI.buildbin-libdir && /Users/biocbuild/BBS/utils/build-universal.sh ROCpAI_1.22.0.tar.gz /Library/Frameworks/R.framework/Resources/bin/R ROCpAI.buildbin-libdir StartedAt: 2025-11-10 23:34:21 -0500 (Mon, 10 Nov 2025) EndedAt: 2025-11-10 23:34:30 -0500 (Mon, 10 Nov 2025) EllapsedTime: 9.2 seconds RetCode: 0 Status: OK PackageFile: ROCpAI_1.22.0.tgz PackageFileSize: 465.9 KiB