Package: ROC Version: 1.86.0 Command: /home/biocbuild/bbs-3.22-bioc/R/bin/R CMD INSTALL ROC StartedAt: 2025-11-17 16:51:55 -0500 (Mon, 17 Nov 2025) EndedAt: 2025-11-17 16:51:57 -0500 (Mon, 17 Nov 2025) EllapsedTime: 1.8 seconds RetCode: 0 Status: OK