Package: RNAmodR Version: 1.24.0 Command: /Library/Frameworks/R.framework/Resources/bin/R CMD INSTALL RNAmodR StartedAt: 2025-11-10 15:25:32 -0500 (Mon, 10 Nov 2025) EndedAt: 2025-11-10 15:26:01 -0500 (Mon, 10 Nov 2025) EllapsedTime: 28.4 seconds RetCode: 0 Status: OK