Package: RNAmodR Version: 1.24.0 Command: rm -rf RNAmodR.buildbin-libdir && mkdir RNAmodR.buildbin-libdir && /Users/biocbuild/BBS/utils/build-universal.sh RNAmodR_1.24.0.tar.gz /Library/Frameworks/R.framework/Resources/bin/R RNAmodR.buildbin-libdir StartedAt: 2025-11-10 23:33:57 -0500 (Mon, 10 Nov 2025) EndedAt: 2025-11-10 23:34:28 -0500 (Mon, 10 Nov 2025) EllapsedTime: 30.5 seconds RetCode: 0 Status: OK PackageFile: RNAmodR_1.24.0.tgz PackageFileSize: 2.966 MiB