Package: RNAmodR.RiboMethSeq Version: 1.24.0 Command: /home/biocbuild/R/R/bin/R CMD build --keep-empty-dirs --no-resave-data RNAmodR.RiboMethSeq StartedAt: 2025-11-14 04:45:05 -0000 (Fri, 14 Nov 2025) EndedAt: 2025-11-14 04:47:50 -0000 (Fri, 14 Nov 2025) EllapsedTime: 165.0 seconds RetCode: 0 Status: OK PackageFile: RNAmodR.RiboMethSeq_1.24.0.tar.gz PackageFileSize: 535 KiB