Package: RNAmodR.RiboMethSeq Version: 1.23.1 Command: /home/biocbuild/bbs-3.22-bioc/R/bin/R CMD INSTALL RNAmodR.RiboMethSeq StartedAt: 2025-10-24 15:59:57 -0400 (Fri, 24 Oct 2025) EndedAt: 2025-10-24 16:00:56 -0400 (Fri, 24 Oct 2025) EllapsedTime: 58.9 seconds RetCode: 0 Status: OK