Package: RNAmodR.RiboMethSeq Version: 1.24.0 Command: /home/biocbuild/bbs-3.22-bioc/R/bin/R CMD check --install=check:RNAmodR.RiboMethSeq.install-out.txt --library=/home/biocbuild/bbs-3.22-bioc/R/site-library --timings RNAmodR.RiboMethSeq_1.24.0.tar.gz StartedAt: 2025-11-10 03:37:20 -0500 (Mon, 10 Nov 2025) EndedAt: 2025-11-10 03:45:36 -0500 (Mon, 10 Nov 2025) EllapsedTime: 496.6 seconds RetCode: 0 Status: OK CheckDir: RNAmodR.RiboMethSeq.Rcheck Warnings: 0