Package: RNAmodR.RiboMethSeq Version: 1.23.1 Command: rm -rf RNAmodR.RiboMethSeq.buildbin-libdir && mkdir RNAmodR.RiboMethSeq.buildbin-libdir && /Users/biocbuild/BBS/utils/build-universal.sh RNAmodR.RiboMethSeq_1.23.1.tar.gz /Library/Frameworks/R.framework/Resources/bin/R RNAmodR.RiboMethSeq.buildbin-libdir StartedAt: 2025-10-25 01:59:58 -0400 (Sat, 25 Oct 2025) EndedAt: 2025-10-25 02:01:18 -0400 (Sat, 25 Oct 2025) EllapsedTime: 80.7 seconds RetCode: 0 Status: OK PackageFile: RNAmodR.RiboMethSeq_1.23.1.tgz PackageFileSize: 721.2 KiB