Package: RNAmodR.RiboMethSeq Version: 1.23.1 Command: /Library/Frameworks/R.framework/Resources/bin/R CMD INSTALL RNAmodR.RiboMethSeq StartedAt: 2025-10-24 15:27:42 -0400 (Fri, 24 Oct 2025) EndedAt: 2025-10-24 15:28:06 -0400 (Fri, 24 Oct 2025) EllapsedTime: 24.6 seconds RetCode: 0 Status: OK