Package: RNAmodR.RiboMethSeq Version: 1.23.1 Command: /Library/Frameworks/R.framework/Resources/bin/R CMD build --keep-empty-dirs --no-resave-data RNAmodR.RiboMethSeq StartedAt: 2025-10-24 17:33:19 -0400 (Fri, 24 Oct 2025) EndedAt: 2025-10-24 17:34:08 -0400 (Fri, 24 Oct 2025) EllapsedTime: 49.6 seconds RetCode: 0 Status: OK PackageFile: RNAmodR.RiboMethSeq_1.23.1.tar.gz PackageFileSize: 638.1 KiB