Package: RNAmodR.ML Version: 1.23.0 Command: /Library/Frameworks/R.framework/Resources/bin/R CMD INSTALL RNAmodR.ML StartedAt: 2025-10-26 15:25:07 -0400 (Sun, 26 Oct 2025) EndedAt: 2025-10-26 15:25:32 -0400 (Sun, 26 Oct 2025) EllapsedTime: 24.6 seconds RetCode: 0 Status: OK