Package: RNAmodR.ML Version: 1.23.0 Command: /Library/Frameworks/R.framework/Resources/bin/R CMD build --keep-empty-dirs --no-resave-data RNAmodR.ML StartedAt: 2025-10-26 17:46:08 -0400 (Sun, 26 Oct 2025) EndedAt: 2025-10-26 17:46:55 -0400 (Sun, 26 Oct 2025) EllapsedTime: 47.6 seconds RetCode: 1 Status: ERROR PackageFile: None PackageFileSize: NA