Package: RNAmodR.ML Version: 1.24.0 Maintainer: Felix G.M. Ernst MaintainerEmail: felix.gm.ernst at outlook.com git_url: https://git.bioconductor.org/packages/RNAmodR.ML git_branch: RELEASE_3_22 git_last_commit: 1a54329 git_last_commit_date: 2025-10-29 10:52:49 -0500 (Wed, 29 Oct 2025)