Package: RNAdecay Version: 1.30.0 Command: /home/biocbuild/bbs-3.22-bioc/R/bin/R CMD INSTALL RNAdecay StartedAt: 2025-11-17 17:02:05 -0500 (Mon, 17 Nov 2025) EndedAt: 2025-11-17 17:09:32 -0500 (Mon, 17 Nov 2025) EllapsedTime: 447.0 seconds RetCode: 0 Status: OK