Package: RNAdecay Version: 1.30.0 Command: /home/biocbuild/bbs-3.22-bioc/R/bin/R CMD build --keep-empty-dirs --no-resave-data --md5 RNAdecay StartedAt: 2025-11-17 23:06:24 -0500 (Mon, 17 Nov 2025) EndedAt: 2025-11-17 23:18:54 -0500 (Mon, 17 Nov 2025) EllapsedTime: 749.8 seconds RetCode: 0 Status: OK PackageFile: RNAdecay_1.30.0.tar.gz PackageFileSize: 2.711 MiB