Package: RNASeqPower Version: 1.50.0 Command: /home/biocbuild/bbs-3.22-bioc/R/bin/R CMD INSTALL RNASeqPower StartedAt: 2025-11-11 15:06:09 -0500 (Tue, 11 Nov 2025) EndedAt: 2025-11-11 15:06:19 -0500 (Tue, 11 Nov 2025) EllapsedTime: 9.6 seconds RetCode: 0 Status: OK