Package: RNAAgeCalc Version: 1.22.0 Command: /home/biocbuild/bbs-3.22-bioc/R/bin/R CMD INSTALL RNAAgeCalc StartedAt: 2025-11-09 16:01:11 -0500 (Sun, 09 Nov 2025) EndedAt: 2025-11-09 16:02:14 -0500 (Sun, 09 Nov 2025) EllapsedTime: 62.9 seconds RetCode: 0 Status: OK