Package: RNAAgeCalc Version: 1.22.0 Command: /home/biocbuild/bbs-3.22-bioc/R/bin/R CMD build --keep-empty-dirs --no-resave-data --md5 RNAAgeCalc StartedAt: 2025-11-06 19:40:53 -0500 (Thu, 06 Nov 2025) EndedAt: 2025-11-06 19:42:02 -0500 (Thu, 06 Nov 2025) EllapsedTime: 69.1 seconds RetCode: 0 Status: OK PackageFile: RNAAgeCalc_1.22.0.tar.gz PackageFileSize: 3.321 MiB