Package: RLMM Version: 1.72.0 Command: /home/biocbuild/bbs-3.22-bioc/R/bin/R CMD INSTALL RLMM StartedAt: 2025-11-03 15:02:38 -0500 (Mon, 03 Nov 2025) EndedAt: 2025-11-03 15:02:48 -0500 (Mon, 03 Nov 2025) EllapsedTime: 10.4 seconds RetCode: 0 Status: OK