Package: RIVER Version: 1.34.0 Command: /home/biocbuild/bbs-3.22-bioc/R/bin/R CMD build --keep-empty-dirs --no-resave-data --md5 RIVER StartedAt: 2025-11-06 19:39:33 -0500 (Thu, 06 Nov 2025) EndedAt: 2025-11-06 19:39:56 -0500 (Thu, 06 Nov 2025) EllapsedTime: 23.0 seconds RetCode: 0 Status: OK PackageFile: RIVER_1.34.0.tar.gz PackageFileSize: 1.458 MiB