Package: RITAN Version: 1.34.0 Command: /home/biocbuild/bbs-3.22-bioc/R/bin/R CMD INSTALL RITAN StartedAt: 2025-11-20 16:35:01 -0500 (Thu, 20 Nov 2025) EndedAt: 2025-11-20 16:35:43 -0500 (Thu, 20 Nov 2025) EllapsedTime: 42.4 seconds RetCode: 0 Status: OK