Package: RGraph2js Version: 1.38.0 Command: /Library/Frameworks/R.framework/Resources/bin/R CMD INSTALL RGraph2js StartedAt: 2025-11-17 17:09:51 -0500 (Mon, 17 Nov 2025) EndedAt: 2025-11-17 17:09:58 -0500 (Mon, 17 Nov 2025) EllapsedTime: 6.7 seconds RetCode: 0 Status: OK