Package: RGraph2js Version: 1.37.0 Command: /Library/Frameworks/R.framework/Resources/bin/R CMD build --keep-empty-dirs --no-resave-data RGraph2js StartedAt: 2025-10-24 18:28:11 -0400 (Fri, 24 Oct 2025) EndedAt: 2025-10-24 18:28:28 -0400 (Fri, 24 Oct 2025) EllapsedTime: 17.2 seconds RetCode: 0 Status: OK PackageFile: RGraph2js_1.37.0.tar.gz PackageFileSize: 2.343 MiB