Package: RGraph2js Version: 1.37.0 Command: rm -rf RGraph2js.buildbin-libdir && mkdir RGraph2js.buildbin-libdir && /Users/biocbuild/BBS/utils/build-universal.sh RGraph2js_1.37.0.tar.gz /Library/Frameworks/R.framework/Resources/bin/R RGraph2js.buildbin-libdir StartedAt: 2025-10-25 01:59:04 -0400 (Sat, 25 Oct 2025) EndedAt: 2025-10-25 01:59:12 -0400 (Sat, 25 Oct 2025) EllapsedTime: 7.9 seconds RetCode: 0 Status: OK PackageFile: RGraph2js_1.37.0.tgz PackageFileSize: 1.496 MiB