Package: RGraph2js Version: 1.37.0 Command: /Library/Frameworks/R.framework/Resources/bin/R CMD INSTALL RGraph2js StartedAt: 2025-10-24 15:09:19 -0400 (Fri, 24 Oct 2025) EndedAt: 2025-10-24 15:09:22 -0400 (Fri, 24 Oct 2025) EllapsedTime: 2.1 seconds RetCode: 0 Status: OK