Package: RGraph2js Version: 1.37.0 Command: /Library/Frameworks/R.framework/Resources/bin/R CMD build --keep-empty-dirs --no-resave-data RGraph2js StartedAt: 2025-10-24 17:30:45 -0400 (Fri, 24 Oct 2025) EndedAt: 2025-10-24 17:30:51 -0400 (Fri, 24 Oct 2025) EllapsedTime: 6.1 seconds RetCode: 0 Status: OK PackageFile: RGraph2js_1.37.0.tar.gz PackageFileSize: 2.344 MiB