Package: RGraph2js Version: 1.37.0 Command: rm -rf RGraph2js.buildbin-libdir && mkdir RGraph2js.buildbin-libdir && /Users/biocbuild/BBS/utils/build-universal.sh RGraph2js_1.37.0.tar.gz /Library/Frameworks/R.framework/Resources/bin/R RGraph2js.buildbin-libdir StartedAt: 2025-10-24 23:16:19 -0400 (Fri, 24 Oct 2025) EndedAt: 2025-10-24 23:16:21 -0400 (Fri, 24 Oct 2025) EllapsedTime: 2.0 seconds RetCode: 0 Status: OK PackageFile: RGraph2js_1.37.0.tgz PackageFileSize: 1.497 MiB