Package: RGraph2js Version: 1.38.0 Command: /Library/Frameworks/R.framework/Resources/bin/R CMD build --keep-empty-dirs --no-resave-data RGraph2js StartedAt: 2025-11-18 00:13:32 -0500 (Tue, 18 Nov 2025) EndedAt: 2025-11-18 00:13:39 -0500 (Tue, 18 Nov 2025) EllapsedTime: 7.1 seconds RetCode: 0 Status: OK PackageFile: RGraph2js_1.38.0.tar.gz PackageFileSize: 2.344 MiB