Package: RGSEA Version: 1.43.0 Command: /home/biocbuild/bbs-3.22-bioc/R/bin/R CMD INSTALL RGSEA StartedAt: 2025-10-27 15:14:05 -0400 (Mon, 27 Oct 2025) EndedAt: 2025-10-27 15:14:07 -0400 (Mon, 27 Oct 2025) EllapsedTime: 2.0 seconds RetCode: 0 Status: OK