Package: RFLOMICS Version: 1.1.4 Command: /home/biocbuild/bbs-3.22-bioc/R/bin/R CMD INSTALL RFLOMICS StartedAt: 2025-10-24 15:58:39 -0400 (Fri, 24 Oct 2025) EndedAt: 2025-10-24 15:59:31 -0400 (Fri, 24 Oct 2025) EllapsedTime: 52.4 seconds RetCode: 0 Status: OK