Package: RFLOMICS Version: 1.1.4 Command: /home/biocbuild/bbs-3.22-bioc/R/bin/R CMD build --keep-empty-dirs --no-resave-data --md5 RFLOMICS StartedAt: 2025-10-24 19:45:00 -0400 (Fri, 24 Oct 2025) EndedAt: 2025-10-24 19:47:23 -0400 (Fri, 24 Oct 2025) EllapsedTime: 143.1 seconds RetCode: 0 Status: OK PackageFile: RFLOMICS_1.1.4.tar.gz PackageFileSize: 5.189 MiB