Package: RESOLVE Version: 1.12.0 Command: /home/biocbuild/bbs-3.22-bioc/R/bin/R CMD build --keep-empty-dirs --no-resave-data --md5 RESOLVE StartedAt: 2025-11-16 19:45:03 -0500 (Sun, 16 Nov 2025) EndedAt: 2025-11-16 19:46:02 -0500 (Sun, 16 Nov 2025) EllapsedTime: 59.3 seconds RetCode: 0 Status: OK PackageFile: RESOLVE_1.12.0.tar.gz PackageFileSize: 858.5 KiB