Package: REDseq Version: 1.56.0 Command: /home/biocbuild/bbs-3.22-bioc/R/bin/R CMD INSTALL REDseq StartedAt: 2025-11-06 15:52:21 -0500 (Thu, 06 Nov 2025) EndedAt: 2025-11-06 15:53:20 -0500 (Thu, 06 Nov 2025) EllapsedTime: 59.5 seconds RetCode: 0 Status: OK