Package: REDseq Version: 1.56.0 Command: /home/biocbuild/bbs-3.22-bioc/R/bin/R CMD build --keep-empty-dirs --no-resave-data --md5 REDseq StartedAt: 2025-11-06 19:34:16 -0500 (Thu, 06 Nov 2025) EndedAt: 2025-11-06 19:35:25 -0500 (Thu, 06 Nov 2025) EllapsedTime: 68.1 seconds RetCode: 0 Status: OK PackageFile: REDseq_1.56.0.tar.gz PackageFileSize: 362.9 KiB