Package: RDRToolbox Version: 1.60.0 Command: /Library/Frameworks/R.framework/Resources/bin/R CMD INSTALL RDRToolbox StartedAt: 2025-11-03 15:13:55 -0500 (Mon, 03 Nov 2025) EndedAt: 2025-11-03 15:14:44 -0500 (Mon, 03 Nov 2025) EllapsedTime: 49.1 seconds RetCode: 0 Status: OK